BEGIN:VCALENDAR
VERSION:2.0
PRODID:-//Trymadrid - ECPv6.15.20//NONSGML v1.0//EN
CALSCALE:GREGORIAN
METHOD:PUBLISH
X-ORIGINAL-URL:https://trymadrid.com
X-WR-CALDESC:Eventos para Trymadrid
REFRESH-INTERVAL;VALUE=DURATION:PT1H
X-Robots-Tag:noindex
X-PUBLISHED-TTL:PT1H
BEGIN:VTIMEZONE
TZID:UTC
BEGIN:STANDARD
TZOFFSETFROM:+0000
TZOFFSETTO:+0000
TZNAME:UTC
DTSTART:20250101T000000
END:STANDARD
END:VTIMEZONE
BEGIN:VEVENT
DTSTART;TZID=UTC:20260911T000000
DTEND;TZID=UTC:20260913T000000
DTSTAMP:20260420T043845
CREATED:20260219T183135Z
LAST-MODIFIED:20260219T183550Z
UID:947-1789084800-1789257600@trymadrid.com
SUMMARY:Gran Premio de Madrid de F1
DESCRIPTION:
URL:https://trymadrid.com/event/gran-premio-de-madrid-de-f1/
LOCATION:Avda. del Partenón\, 5\, Avda. del Partenón\, 5\, Madrid\, Madrid\, 28042\, Spain
END:VEVENT
BEGIN:VEVENT
DTSTART;TZID=UTC:20261006T080000
DTEND;TZID=UTC:20261008T170000
DTSTAMP:20260420T043845
CREATED:20260219T182432Z
LAST-MODIFIED:20260219T183246Z
UID:945-1791273600-1791478800@trymadrid.com
SUMMARY:Feria Fruit Attraction
DESCRIPTION:Feria de la fruta en Madrid\, que ocasiona una ocupación muy alta en los alojamientos de Madrid y hace que los precios de los hoteles suban
URL:https://trymadrid.com/event/feria-fruit-attraction/
END:VEVENT
END:VCALENDAR